BEGIN:VCALENDAR
VERSION:2.0
PRODID:-//Khrystyna Mykhailichenko - ECPv6.15.20//NONSGML v1.0//EN
CALSCALE:GREGORIAN
METHOD:PUBLISH
X-ORIGINAL-URL:https://khrystynamykhailichenko.com
X-WR-CALDESC:Events for Khrystyna Mykhailichenko
REFRESH-INTERVAL;VALUE=DURATION:PT1H
X-Robots-Tag:noindex
X-PUBLISHED-TTL:PT1H
BEGIN:VTIMEZONE
TZID:Europe/Paris
BEGIN:DAYLIGHT
TZOFFSETFROM:+0100
TZOFFSETTO:+0200
TZNAME:CEST
DTSTART:20240331T010000
END:DAYLIGHT
BEGIN:STANDARD
TZOFFSETFROM:+0200
TZOFFSETTO:+0100
TZNAME:CET
DTSTART:20241027T010000
END:STANDARD
BEGIN:DAYLIGHT
TZOFFSETFROM:+0100
TZOFFSETTO:+0200
TZNAME:CEST
DTSTART:20250330T010000
END:DAYLIGHT
BEGIN:STANDARD
TZOFFSETFROM:+0200
TZOFFSETTO:+0100
TZNAME:CET
DTSTART:20251026T010000
END:STANDARD
BEGIN:DAYLIGHT
TZOFFSETFROM:+0100
TZOFFSETTO:+0200
TZNAME:CEST
DTSTART:20260329T010000
END:DAYLIGHT
BEGIN:STANDARD
TZOFFSETFROM:+0200
TZOFFSETTO:+0100
TZNAME:CET
DTSTART:20261025T010000
END:STANDARD
END:VTIMEZONE
BEGIN:VEVENT
DTSTART;TZID=Europe/Paris:20250611T080000
DTEND;TZID=Europe/Paris:20250708T170000
DTSTAMP:20260426T000758
CREATED:20251205T124917Z
LAST-MODIFIED:20251205T124917Z
UID:1617-1749628800-1751994000@khrystynamykhailichenko.com
SUMMARY:Beethoven\, Debussy\, Schubert Recital Tour
DESCRIPTION:
URL:https://khrystynamykhailichenko.com/event/beethoven-debussy-schubert-recital-tour/
LOCATION:Norden Farm\, Maidenhead; St Mary’s Church\, Aylesbury (UK)
CATEGORIES:Recital Programmes
END:VEVENT
END:VCALENDAR