BEGIN:VCALENDAR
VERSION:2.0
PRODID:-//Khrystyna Mykhailichenko - ECPv6.15.20//NONSGML v1.0//EN
CALSCALE:GREGORIAN
METHOD:PUBLISH
X-ORIGINAL-URL:https://khrystynamykhailichenko.com
X-WR-CALDESC:Events for Khrystyna Mykhailichenko
REFRESH-INTERVAL;VALUE=DURATION:PT1H
X-Robots-Tag:noindex
X-PUBLISHED-TTL:PT1H
BEGIN:VTIMEZONE
TZID:Europe/Paris
BEGIN:DAYLIGHT
TZOFFSETFROM:+0100
TZOFFSETTO:+0200
TZNAME:CEST
DTSTART:20240331T010000
END:DAYLIGHT
BEGIN:STANDARD
TZOFFSETFROM:+0200
TZOFFSETTO:+0100
TZNAME:CET
DTSTART:20241027T010000
END:STANDARD
BEGIN:DAYLIGHT
TZOFFSETFROM:+0100
TZOFFSETTO:+0200
TZNAME:CEST
DTSTART:20250330T010000
END:DAYLIGHT
BEGIN:STANDARD
TZOFFSETFROM:+0200
TZOFFSETTO:+0100
TZNAME:CET
DTSTART:20251026T010000
END:STANDARD
BEGIN:DAYLIGHT
TZOFFSETFROM:+0100
TZOFFSETTO:+0200
TZNAME:CEST
DTSTART:20260329T010000
END:DAYLIGHT
BEGIN:STANDARD
TZOFFSETFROM:+0200
TZOFFSETTO:+0100
TZNAME:CET
DTSTART:20261025T010000
END:STANDARD
END:VTIMEZONE
BEGIN:VEVENT
DTSTART;TZID=Europe/Paris:20251005T080000
DTEND;TZID=Europe/Paris:20251106T170000
DTSTAMP:20260423T220135
CREATED:20251205T125052Z
LAST-MODIFIED:20251205T125100Z
UID:1623-1759651200-1762448400@khrystynamykhailichenko.com
SUMMARY:Autumn Recital Tour – Bach-Busoni\, Scarlatti\, Chopin\, Schubert
DESCRIPTION:
URL:https://khrystynamykhailichenko.com/event/autumn-recital-tour-bach-busoni-scarlatti-chopin-schubert/
LOCATION:Darlington Piano Society; Bracknell (UK); Sunderland Pianoforte Society
CATEGORIES:Recital Programmes
END:VEVENT
END:VCALENDAR